BEGIN:VCALENDAR
VERSION:2.0
PRODID:-//Heimatverein Drakenburg - ECPv6.15.20//NONSGML v1.0//EN
CALSCALE:GREGORIAN
METHOD:PUBLISH
X-ORIGINAL-URL:https://heimatverein-drakenburg.de
X-WR-CALDESC:Veranstaltungen für Heimatverein Drakenburg
REFRESH-INTERVAL;VALUE=DURATION:PT1H
X-Robots-Tag:noindex
X-PUBLISHED-TTL:PT1H
BEGIN:VTIMEZONE
TZID:Europe/Berlin
BEGIN:DAYLIGHT
TZOFFSETFROM:+0100
TZOFFSETTO:+0200
TZNAME:CEST
DTSTART:20240331T010000
END:DAYLIGHT
BEGIN:STANDARD
TZOFFSETFROM:+0200
TZOFFSETTO:+0100
TZNAME:CET
DTSTART:20241027T010000
END:STANDARD
BEGIN:DAYLIGHT
TZOFFSETFROM:+0100
TZOFFSETTO:+0200
TZNAME:CEST
DTSTART:20250330T010000
END:DAYLIGHT
BEGIN:STANDARD
TZOFFSETFROM:+0200
TZOFFSETTO:+0100
TZNAME:CET
DTSTART:20251026T010000
END:STANDARD
BEGIN:DAYLIGHT
TZOFFSETFROM:+0100
TZOFFSETTO:+0200
TZNAME:CEST
DTSTART:20260329T010000
END:DAYLIGHT
BEGIN:STANDARD
TZOFFSETFROM:+0200
TZOFFSETTO:+0100
TZNAME:CET
DTSTART:20261025T010000
END:STANDARD
END:VTIMEZONE
BEGIN:VEVENT
DTSTART;TZID=Europe/Berlin:20250423T190000
DTEND;TZID=Europe/Berlin:20250423T190000
DTSTAMP:20260421T195435
CREATED:20241215T111146Z
LAST-MODIFIED:20250121T115055Z
UID:1821-1745434800-1745434800@heimatverein-drakenburg.de
SUMMARY:Vortrag 1000 Jahre Drakenburg
DESCRIPTION:Geschichte und Geschichten in 1000 Jahren Drakenburg      \nDrakenburg war im Mittelalter eine Kleinstadt\, günstig an der\nWeser gelegen. Sehr viel niederer Adel sammelte sich an und\ndas hatte Auswirkungen… Die Menschheit entwickelt sich\, die\nWelt dreht sich immer schneller und Drakenburg ist mittendrin.\nWenn wir die Geschichte anschauen\, verstehen wir die\nGegenwart besser.\nGästeführerin Gudrun Selent-Pohl beleuchtet verschiedene\nAbschnitte aus Drakenburgs „Werden“ und was daraus\ngeworden ist\, gespickt mit Anekdoten.
URL:https://heimatverein-drakenburg.de/termin/vortrag-1000-jahre-drakenburg/
LOCATION:Ole Schüne\, Tredde 8a\, Drakenburg\, Niedersachsen\, 31623\, Germany
ORGANIZER;CN="Heimatverein Drakenburg e.V.":MAILTO:info@heimatverein-drakenburg.de
END:VEVENT
END:VCALENDAR