BEGIN:VCALENDAR
VERSION:2.0
PRODID:-//Heimatverein Drakenburg - ECPv6.15.20//NONSGML v1.0//EN
CALSCALE:GREGORIAN
METHOD:PUBLISH
X-ORIGINAL-URL:https://heimatverein-drakenburg.de
X-WR-CALDESC:Veranstaltungen für Heimatverein Drakenburg
REFRESH-INTERVAL;VALUE=DURATION:PT1H
X-Robots-Tag:noindex
X-PUBLISHED-TTL:PT1H
BEGIN:VTIMEZONE
TZID:Europe/Berlin
BEGIN:DAYLIGHT
TZOFFSETFROM:+0100
TZOFFSETTO:+0200
TZNAME:CEST
DTSTART:20240331T010000
END:DAYLIGHT
BEGIN:STANDARD
TZOFFSETFROM:+0200
TZOFFSETTO:+0100
TZNAME:CET
DTSTART:20241027T010000
END:STANDARD
BEGIN:DAYLIGHT
TZOFFSETFROM:+0100
TZOFFSETTO:+0200
TZNAME:CEST
DTSTART:20250330T010000
END:DAYLIGHT
BEGIN:STANDARD
TZOFFSETFROM:+0200
TZOFFSETTO:+0100
TZNAME:CET
DTSTART:20251026T010000
END:STANDARD
BEGIN:DAYLIGHT
TZOFFSETFROM:+0100
TZOFFSETTO:+0200
TZNAME:CEST
DTSTART:20260329T010000
END:DAYLIGHT
BEGIN:STANDARD
TZOFFSETFROM:+0200
TZOFFSETTO:+0100
TZNAME:CET
DTSTART:20261025T010000
END:STANDARD
END:VTIMEZONE
BEGIN:VEVENT
DTSTART;TZID=Europe/Berlin:20250525T170000
DTEND;TZID=Europe/Berlin:20250525T170000
DTSTAMP:20260421T181403
CREATED:20241215T112127Z
LAST-MODIFIED:20250116T135016Z
UID:1830-1748192400-1748192400@heimatverein-drakenburg.de
SUMMARY:Aufführung Theaterstück & Mittelaltermarkt
DESCRIPTION:Dritte und letzte Aufführung des Theaterstücks „Schlacht vor Drakenburg“. \nGewissenskrieg • Liebe und Verrat von Tobias Dominik Klein. \nLeitung und Regie: Franziska Marra. \nPlatzreservierung erforderlich!\nNäheres unter 1000-Jahre-Drakenburg.de \nAm Veranstaltungsort im Kirchengarten lädt ein Mittelaltermarkt zum Besuch ein.
URL:https://heimatverein-drakenburg.de/termin/dritte-auffuehrung-theaterstueck/
LOCATION:St.-Johannis-der-Täufer-Kirche\, Kirchstraße\, Drakenburg\, Niedersachsen\, 31623
ATTACH;FMTTYPE=image/webp:https://heimatverein-drakenburg.de/wp-content/uploads/2024/12/Theaterprojekt-BZP.webp
ORGANIZER;CN="Heimatverein Drakenburg e.V.":MAILTO:info@heimatverein-drakenburg.de
END:VEVENT
END:VCALENDAR