BEGIN:VCALENDAR
VERSION:2.0
PRODID:-//Heimatverein Drakenburg - ECPv6.15.20//NONSGML v1.0//EN
CALSCALE:GREGORIAN
METHOD:PUBLISH
X-WR-CALNAME:Heimatverein Drakenburg
X-ORIGINAL-URL:https://heimatverein-drakenburg.de
X-WR-CALDESC:Veranstaltungen für Heimatverein Drakenburg
REFRESH-INTERVAL;VALUE=DURATION:PT1H
X-Robots-Tag:noindex
X-PUBLISHED-TTL:PT1H
BEGIN:VTIMEZONE
TZID:Europe/Berlin
BEGIN:DAYLIGHT
TZOFFSETFROM:+0100
TZOFFSETTO:+0200
TZNAME:CEST
DTSTART:20240331T010000
END:DAYLIGHT
BEGIN:STANDARD
TZOFFSETFROM:+0200
TZOFFSETTO:+0100
TZNAME:CET
DTSTART:20241027T010000
END:STANDARD
BEGIN:DAYLIGHT
TZOFFSETFROM:+0100
TZOFFSETTO:+0200
TZNAME:CEST
DTSTART:20250330T010000
END:DAYLIGHT
BEGIN:STANDARD
TZOFFSETFROM:+0200
TZOFFSETTO:+0100
TZNAME:CET
DTSTART:20251026T010000
END:STANDARD
BEGIN:DAYLIGHT
TZOFFSETFROM:+0100
TZOFFSETTO:+0200
TZNAME:CEST
DTSTART:20260329T010000
END:DAYLIGHT
BEGIN:STANDARD
TZOFFSETFROM:+0200
TZOFFSETTO:+0100
TZNAME:CET
DTSTART:20261025T010000
END:STANDARD
END:VTIMEZONE
BEGIN:VEVENT
DTSTART;TZID=Europe/Berlin:20250209T140000
DTEND;TZID=Europe/Berlin:20250209T170000
DTSTAMP:20260421T220021
CREATED:20241117T181637Z
LAST-MODIFIED:20250116T144504Z
UID:207-1739109600-1739120400@heimatverein-drakenburg.de
SUMMARY:Kaffeenachmittag
DESCRIPTION:Kaffee & Kuchen mit Klönsnack \n 
URL:https://heimatverein-drakenburg.de/termin/testveranstaltung-nummer-1/
LOCATION:Ole Schüne\, Tredde 8a\, Drakenburg\, Niedersachsen\, 31623\, Germany
ATTACH;FMTTYPE=image/webp:https://heimatverein-drakenburg.de/wp-content/uploads/2024/11/Kaffeenachmittag-LogoV2-e1738856585483.webp
ORGANIZER;CN="Heimatverein Drakenburg e.V.":MAILTO:info@heimatverein-drakenburg.de
END:VEVENT
BEGIN:VEVENT
DTSTART;TZID=Europe/Berlin:20250213T180000
DTEND;TZID=Europe/Berlin:20250213T180000
DTSTAMP:20260421T220021
CREATED:20241215T105508Z
LAST-MODIFIED:20241215T105508Z
UID:1807-1739469600-1739469600@heimatverein-drakenburg.de
SUMMARY:Jahreshauptversammlung
DESCRIPTION:Jahreshauptversammlung des Heimatverein Drakenburg e.V. – alle Mitglieder sind herzlich willkommen.
URL:https://heimatverein-drakenburg.de/termin/jahreshauptversammlung/
LOCATION:Ole Schüne\, Tredde 8a\, Drakenburg\, Niedersachsen\, 31623\, Germany
ORGANIZER;CN="Heimatverein Drakenburg e.V.":MAILTO:info@heimatverein-drakenburg.de
END:VEVENT
BEGIN:VEVENT
DTSTART;TZID=Europe/Berlin:20250222T150000
DTEND;TZID=Europe/Berlin:20250222T150000
DTSTAMP:20260421T220021
CREATED:20241215T105703Z
LAST-MODIFIED:20250201T095942Z
UID:1809-1740236400-1740236400@heimatverein-drakenburg.de
SUMMARY:Winterwanderung
DESCRIPTION:Zum Winterausklang lädt der Heimatverein Drakenburg e.V. ein zu einer Wanderung durchs Drakenburger Umland. \nWir starten an der Olen Schüne um 15:00 Uhr. Unterwegs gibt es verschiedene Getränke zur Stärkung. \nZiel ist das Cafe-Bistro Auszeit in Drakenburg wo wir uns um 18:00 Uhr zum Grünkohlessen treffen. \n Preis pro Person einschl. Nachtisch 28\,50 € \n Hier wird auch der/die neue Grünkohlkönig/in gewählt. \n  \nAnmeldung bis 19.02. unter 050248585 oder 05024 8875927 oder einen Zettel mit Name und Telefonnummer in unseren Briefkasten an der Ole Schüne werfen.
URL:https://heimatverein-drakenburg.de/termin/winterwanderung/
LOCATION:Niedersachsen
END:VEVENT
BEGIN:VEVENT
DTSTART;TZID=Europe/Berlin:20250228T180000
DTEND;TZID=Europe/Berlin:20250228T220000
DTSTAMP:20260421T220021
CREATED:20250201T100311Z
LAST-MODIFIED:20250201T100311Z
UID:2899-1740765600-1740780000@heimatverein-drakenburg.de
SUMMARY:Auftaktveranstaltung Gemeinde & Vereine
DESCRIPTION:Kick-off-Veranstaltung zum Start ins Jubiläumsjahr für geladene Vertreter der Gemeinde und ortsansässiger Vereine.
URL:https://heimatverein-drakenburg.de/termin/auftaktveranstaltung-gemeinde-vereine/
LOCATION:Ole Schüne\, Tredde 8a\, Drakenburg\, Niedersachsen\, 31623\, Germany
ATTACH;FMTTYPE=image/webp:https://heimatverein-drakenburg.de/wp-content/uploads/2025/02/Logo_1000_Jahre_Drakenburg_ohne_URL_schwarz_1000px.webp
END:VEVENT
END:VCALENDAR