BEGIN:VCALENDAR
VERSION:2.0
PRODID:-//Heimatverein Drakenburg - ECPv6.15.20//NONSGML v1.0//EN
CALSCALE:GREGORIAN
METHOD:PUBLISH
X-WR-CALNAME:Heimatverein Drakenburg
X-ORIGINAL-URL:https://heimatverein-drakenburg.de
X-WR-CALDESC:Veranstaltungen für Heimatverein Drakenburg
REFRESH-INTERVAL;VALUE=DURATION:PT1H
X-Robots-Tag:noindex
X-PUBLISHED-TTL:PT1H
BEGIN:VTIMEZONE
TZID:Europe/Berlin
BEGIN:DAYLIGHT
TZOFFSETFROM:+0100
TZOFFSETTO:+0200
TZNAME:CEST
DTSTART:20240331T010000
END:DAYLIGHT
BEGIN:STANDARD
TZOFFSETFROM:+0200
TZOFFSETTO:+0100
TZNAME:CET
DTSTART:20241027T010000
END:STANDARD
BEGIN:DAYLIGHT
TZOFFSETFROM:+0100
TZOFFSETTO:+0200
TZNAME:CEST
DTSTART:20250330T010000
END:DAYLIGHT
BEGIN:STANDARD
TZOFFSETFROM:+0200
TZOFFSETTO:+0100
TZNAME:CET
DTSTART:20251026T010000
END:STANDARD
BEGIN:DAYLIGHT
TZOFFSETFROM:+0100
TZOFFSETTO:+0200
TZNAME:CEST
DTSTART:20260329T010000
END:DAYLIGHT
BEGIN:STANDARD
TZOFFSETFROM:+0200
TZOFFSETTO:+0100
TZNAME:CET
DTSTART:20261025T010000
END:STANDARD
END:VTIMEZONE
BEGIN:VEVENT
DTSTART;TZID=Europe/Berlin:20250309T140000
DTEND;TZID=Europe/Berlin:20250309T170000
DTSTAMP:20260421T195440
CREATED:20241215T105852Z
LAST-MODIFIED:20250116T144555Z
UID:1812-1741528800-1741539600@heimatverein-drakenburg.de
SUMMARY:Kaffeenachmittag mit Bingo
DESCRIPTION:Kaffeenachmittag mit Bingo
URL:https://heimatverein-drakenburg.de/termin/kaffeenachmittag-mit-bingo/
LOCATION:Ole Schüne\, Tredde 8a\, Drakenburg\, Niedersachsen\, 31623\, Germany
ATTACH;FMTTYPE=image/webp:https://heimatverein-drakenburg.de/wp-content/uploads/2024/11/Kaffeenachmittag-LogoV2-e1738856585483.webp
ORGANIZER;CN="Heimatverein Drakenburg e.V.":MAILTO:info@heimatverein-drakenburg.de
END:VEVENT
BEGIN:VEVENT
DTSTART;TZID=Europe/Berlin:20250315T160000
DTEND;TZID=Europe/Berlin:20250315T160000
DTSTAMP:20260421T195440
CREATED:20241215T110815Z
LAST-MODIFIED:20250313T161959Z
UID:1814-1742054400-1742054400@heimatverein-drakenburg.de
SUMMARY:Doppelkopfturnier wurde abgesagt!
DESCRIPTION:Fällt aus wegen zu geringer Beteiligung
URL:https://heimatverein-drakenburg.de/termin/doppelkopfturnier/
LOCATION:Ole Schüne\, Tredde 8a\, Drakenburg\, Niedersachsen\, 31623\, Germany
ORGANIZER;CN="Heimatverein Drakenburg e.V.":MAILTO:info@heimatverein-drakenburg.de
END:VEVENT
BEGIN:VEVENT
DTSTART;TZID=Europe/Berlin:20250322T180000
DTEND;TZID=Europe/Berlin:20250322T220000
DTSTAMP:20260421T195440
CREATED:20241215T110902Z
LAST-MODIFIED:20250127T203035Z
UID:1817-1742666400-1742680800@heimatverein-drakenburg.de
SUMMARY:Klöntanz
DESCRIPTION:Klöntanz
URL:https://heimatverein-drakenburg.de/termin/kloentanz/
LOCATION:Ole Schüne\, Tredde 8a\, Drakenburg\, Niedersachsen\, 31623\, Germany
ORGANIZER;CN="Heimatverein Drakenburg e.V.":MAILTO:info@heimatverein-drakenburg.de
END:VEVENT
END:VCALENDAR