BEGIN:VCALENDAR
VERSION:2.0
PRODID:-//Heimatverein Drakenburg - ECPv6.15.20//NONSGML v1.0//EN
CALSCALE:GREGORIAN
METHOD:PUBLISH
X-ORIGINAL-URL:https://heimatverein-drakenburg.de
X-WR-CALDESC:Veranstaltungen für Heimatverein Drakenburg
REFRESH-INTERVAL;VALUE=DURATION:PT1H
X-Robots-Tag:noindex
X-PUBLISHED-TTL:PT1H
BEGIN:VTIMEZONE
TZID:Europe/Berlin
BEGIN:DAYLIGHT
TZOFFSETFROM:+0100
TZOFFSETTO:+0200
TZNAME:CEST
DTSTART:20240331T010000
END:DAYLIGHT
BEGIN:STANDARD
TZOFFSETFROM:+0200
TZOFFSETTO:+0100
TZNAME:CET
DTSTART:20241027T010000
END:STANDARD
BEGIN:DAYLIGHT
TZOFFSETFROM:+0100
TZOFFSETTO:+0200
TZNAME:CEST
DTSTART:20250330T010000
END:DAYLIGHT
BEGIN:STANDARD
TZOFFSETFROM:+0200
TZOFFSETTO:+0100
TZNAME:CET
DTSTART:20251026T010000
END:STANDARD
BEGIN:DAYLIGHT
TZOFFSETFROM:+0100
TZOFFSETTO:+0200
TZNAME:CEST
DTSTART:20260329T010000
END:DAYLIGHT
BEGIN:STANDARD
TZOFFSETFROM:+0200
TZOFFSETTO:+0100
TZNAME:CET
DTSTART:20261025T010000
END:STANDARD
END:VTIMEZONE
BEGIN:VEVENT
DTSTART;TZID=Europe/Berlin:20250411T190000
DTEND;TZID=Europe/Berlin:20250411T190000
DTSTAMP:20260421T181506
CREATED:20241216T203213Z
LAST-MODIFIED:20250407T095440Z
UID:1910-1744398000-1744398000@heimatverein-drakenburg.de
SUMMARY:Vortrag "Südstaaten der USA" v. W. Zapke
DESCRIPTION:Wilfried Zapke berichtet von seinen Erlebnissen bei der Rundreise durch die Südstaaten der USA. Ein interessanter Bildervortrag\, den man sich nicht entgehen lassen sollte.
URL:https://heimatverein-drakenburg.de/termin/vortrag-suedstaaten-der-usa/
LOCATION:Ole Schüne\, Tredde 8a\, Drakenburg\, Niedersachsen\, 31623\, Germany
ORGANIZER;CN="Heimatverein Drakenburg e.V.":MAILTO:info@heimatverein-drakenburg.de
END:VEVENT
BEGIN:VEVENT
DTSTART;TZID=Europe/Berlin:20250413T140000
DTEND;TZID=Europe/Berlin:20250413T170000
DTSTAMP:20260421T181506
CREATED:20241215T110957Z
LAST-MODIFIED:20250116T144630Z
UID:1819-1744552800-1744563600@heimatverein-drakenburg.de
SUMMARY:Kaffeenachmittag
DESCRIPTION:Kaffee & Kuchen mit Klönsnack
URL:https://heimatverein-drakenburg.de/termin/kaffeenachmittag/
LOCATION:Ole Schüne\, Tredde 8a\, Drakenburg\, Niedersachsen\, 31623\, Germany
ATTACH;FMTTYPE=image/webp:https://heimatverein-drakenburg.de/wp-content/uploads/2024/11/Kaffeenachmittag-LogoV2-e1738856585483.webp
ORGANIZER;CN="Heimatverein Drakenburg e.V.":MAILTO:info@heimatverein-drakenburg.de
END:VEVENT
BEGIN:VEVENT
DTSTART;TZID=Europe/Berlin:20250423T190000
DTEND;TZID=Europe/Berlin:20250423T190000
DTSTAMP:20260421T181506
CREATED:20241215T111146Z
LAST-MODIFIED:20250121T115055Z
UID:1821-1745434800-1745434800@heimatverein-drakenburg.de
SUMMARY:Vortrag 1000 Jahre Drakenburg
DESCRIPTION:Geschichte und Geschichten in 1000 Jahren Drakenburg      \nDrakenburg war im Mittelalter eine Kleinstadt\, günstig an der\nWeser gelegen. Sehr viel niederer Adel sammelte sich an und\ndas hatte Auswirkungen… Die Menschheit entwickelt sich\, die\nWelt dreht sich immer schneller und Drakenburg ist mittendrin.\nWenn wir die Geschichte anschauen\, verstehen wir die\nGegenwart besser.\nGästeführerin Gudrun Selent-Pohl beleuchtet verschiedene\nAbschnitte aus Drakenburgs „Werden“ und was daraus\ngeworden ist\, gespickt mit Anekdoten.
URL:https://heimatverein-drakenburg.de/termin/vortrag-1000-jahre-drakenburg/
LOCATION:Ole Schüne\, Tredde 8a\, Drakenburg\, Niedersachsen\, 31623\, Germany
ORGANIZER;CN="Heimatverein Drakenburg e.V.":MAILTO:info@heimatverein-drakenburg.de
END:VEVENT
BEGIN:VEVENT
DTSTART;TZID=Europe/Berlin:20250424T160000
DTEND;TZID=Europe/Berlin:20250424T180000
DTSTAMP:20260421T181506
CREATED:20250415T091600Z
LAST-MODIFIED:20250415T091600Z
UID:3387-1745510400-1745517600@heimatverein-drakenburg.de
SUMMARY:Soziale Sprechstunde
DESCRIPTION:Schwerpunktthemen heute: Schwerbehindertenrecht und Leistungen zur Teilhabe. Unsere Aktiven stehen gern bereit\, mit Ihnen über Ihre Fragen hierzu zu sprechen.
URL:https://heimatverein-drakenburg.de/termin/soziale-sprechstunde/
LOCATION:Ole Schüne\, Tredde 8a\, Drakenburg\, Niedersachsen\, 31623\, Germany
END:VEVENT
END:VCALENDAR